BEGIN:VCALENDAR
VERSION:2.0
PRODID:-//Nuclear Careers - ECPv6.15.8//NONSGML v1.0//EN
CALSCALE:GREGORIAN
METHOD:PUBLISH
X-WR-CALNAME:Nuclear Careers
X-ORIGINAL-URL:https://www.nuclear-careers.com
X-WR-CALDESC:Events for Nuclear Careers
REFRESH-INTERVAL;VALUE=DURATION:PT1H
X-Robots-Tag:noindex
X-PUBLISHED-TTL:PT1H
BEGIN:VTIMEZONE
TZID:UTC
BEGIN:STANDARD
TZOFFSETFROM:+0000
TZOFFSETTO:+0000
TZNAME:UTC
DTSTART:20240101T000000
END:STANDARD
END:VTIMEZONE
BEGIN:VEVENT
DTSTART;TZID=UTC:20251127T173000
DTEND;TZID=UTC:20251127T191500
DTSTAMP:20260422T181427
CREATED:20251024T133950Z
LAST-MODIFIED:20251024T133950Z
UID:450-1764264600-1764270900@www.nuclear-careers.com
SUMMARY:North East Branch: Current and Future Projects at Hartlepool
DESCRIPTION:The Nuclear industry in the Northeast is set to grow\, and this is an opportunity for anyone with an interest to expand their knowledge. This event will provide brief talks on projects that are happening in the Northeast of England\, with focus on Nuclear Professionalism. \nThe evening will commence at 5.30pm with pizza and drinks plus an opportunity to network. Talks will start at 6pm and finishing at 7.15pm. \nAgenda\n5.30      Pizza and drinks \n6.00       Welcome and Safety – Gary Riches\, Hartlepool College \n6.05       Introduction – James Bewley\, Chair NI NE Branch \n6.10       A new plant at Hartlepool – X-Energy \n6.20       Constructing the new plant – Mick Renshaw\, Cavendish Nuclear \n6.35       Upgrades at Hartlepool\, Gas Turbine Resilience – Matt Howell\, EDF \n6.50       The GT upgrade – Kevin McEneny\, Cullum \n7.05       Summary and future events – James Bewley\, Chair NI NE Branch \n7.15      Close \nRegister: https://nuclearinst.com/Events/north-east-branch-current-and-future-projects-at-hartlepool/16105?OccId=22019
URL:https://www.nuclear-careers.com/event/north-east-branch-current-and-future-projects-at-hartlepool/
LOCATION:Hartlepool College\, Stockton St\, Hartlepool\, TS24 7NT\, United Kingdom
CATEGORIES:Events
END:VEVENT
BEGIN:VEVENT
DTSTART;TZID=UTC:20251127T180000
DTEND;TZID=UTC:20251127T200000
DTSTAMP:20260422T181427
CREATED:20251113T154501Z
LAST-MODIFIED:20251113T154501Z
UID:549-1764266400-1764273600@www.nuclear-careers.com
SUMMARY:Startup Huddle Oxford
DESCRIPTION:Overview\n\n\n\n\n\nCome and network with Startup founders and entrepreneurs in the Business & IP Centre\, Oxford Westgate Library\n\n\n\nRecognised as the world’s largest monthly startup networking event. EVERY third Thursday of the month\, since July 2022. \nStartup Huddle is designed to help one entrepreneur at a time while strengthening the entrepreneurial ecosystem. With 2 preselected start-ups presenting their business journey so far followed by QA\, feedback and plenty of time for networking. With ecosystem opportunities and national/international opportunities being shared. \nEntrepreneurs discover solutions to the challenges they face through purposeful engagement with a broad array of voices from the Oxfordshire entrepreneurial ecosystem. \nParticipants encouraged to support one another with their connections\, knowledge and insights. With a great opportunity to explore all of the facilities and resources available to access for free at Business & IP Centre Oxfordshire\, a large centre located 2nd floor of Oxford Westgate Library (city centre). \nHot and cold refreshments provided. The Startup Huddle is part of the Global Entrepreneruship Network\, further details and opportunities: Welcome | Global Entrepreneurship Network \nBIPC Oxfordshire collects your name and email address to manage your registration for the Startup Huddle event. Your information will only be used for event administration and will not be shared outside the business support service. For more information on how we handle your data and your rights\, please see the Oxfordshire County Council privacy policy: https://www.oxfordshire.gov.uk/council/about-website/privacy-notices/privacy-notice \n\n\n\n\n\n\n\n\n\n\n\n\nRegister here and be quick as there’s already 125 people sorted; https://www.eventbrite.co.uk/e/startup-huddle-oxford-networking-event-the-worlds-largest-tickets-1836712138449?aff=oddtdtcreator
URL:https://www.nuclear-careers.com/event/startup-huddle-oxford/
LOCATION:BIPC\, Westgate Library\, County Hall New Road\, Oxford\, OX1 1ND\, United Kingdom
CATEGORIES:Events
END:VEVENT
BEGIN:VEVENT
DTSTART;TZID=UTC:20251128T180000
DTEND;TZID=UTC:20251128T210000
DTSTAMP:20260422T181427
CREATED:20251024T134438Z
LAST-MODIFIED:20251024T134438Z
UID:453-1764352800-1764363600@www.nuclear-careers.com
SUMMARY:Nuclear Institute: Northwest Branch Winter Social
DESCRIPTION:As the year winds down\, the Nuclear Institute North West Branch invites you to our Winter Social at Immersive Gamebox – an evening of interactive festive fun and relaxed networking! \nJoin us in our private area where nibbles will be served throughout the evening. Step into a world of tech-driven adventures where you and your team control the action\, from Squid Game challenges to Angry Birds mayhem! \nWhether you’re here to play\, chat\, or just unwind\, it’s the perfect way to wrap up the year with colleagues and friends. \nWhy attend?\nProfessional Networking \n\nConnect with fellow professionals in a relaxed\, informal setting.\nMeet new faces and expand your industry contacts.\n\nRelaxation & Enjoyment \n\nA chance to unwind after a busy year.\nEnjoy nibbles and a fun atmosphere.\n\nUnique Experience \n\nImmersive Gamebox offers a cutting-edge\, tech-driven adventure. This is not your typical social event!\n\nRegister: https://nuclearinst.com/Events/north-west-branch-winter-social-/16172?OccId=22087
URL:https://www.nuclear-careers.com/event/nuclear-institute-northwest-branch-winter-social/
LOCATION:Immersive Gamebox\, Arndale\, Manchester
CATEGORIES:Events
END:VEVENT
END:VCALENDAR